Workbook
Name Brakes2: 'A-frame'!$D$64:$F$65
Name Brakes2: Composite!$D$73:$F$74
Name Brakes2: 'Single Tongue'!$E$72:$F$73
Name Drawbar2: 'A-frame'!$D$73:$F$74
Name Drawbar2: Composite!$D$82:$F$83
Name Drawbar2: 'Single Tongue'!$E$99:$F$100
Name Fabrication: 'A-frame'!$K$15:$M$16
Name Fabrication: Composite!$K$15:$M$16
Name Fabrication: 'Single Tongue'!$K$15:$M$16
Name fabrication_1: 'A-frame'!$K$15:$K$16
Name fabrication_1: Composite!$K$15:$K$16
Name fabrication_1: 'Single Tongue'!$K$15:$K$16
Name Steel: 'A-frame'!$K$10:$M$12
Name Steel: Composite!$K$10:$M$12
Name Steel: 'Single Tongue'!$K$10:$M$12
Name steel_1: 'A-frame'!$K$10:$K$12
Name steel_1: Composite!$K$10:$K$12
Name steel_1: 'Single Tongue'!$K$10:$K$12
Name Steel2: 'A-frame'!$D$68:$F$70
Name Steel2: Composite!$D$77:$F$79
Name Steel2: 'Single Tongue'!$E$89:$F$91
Name Use: 'A-frame'!$K$5:$M$7
Name Use: Composite!$K$5:$M$7
Name Use: 'Single Tongue'!$K$5:$M$7
Name use_1: 'A-frame'!$K$5:$K$7
Name use_1: Composite!$K$5:$K$7
Name use_1: 'Single Tongue'!$K$5:$K$7

Sheet Introduction
A1: UNIFIED TONGUE STRENGTH SPREADSHEET - BRITISH
A3: Application Notes
A5: This spreadsheet is based on a loose combination of parts of:
A6: - the Australian trailer rules, VSB01/Rev5/2009 (for the off-road category), and
A7: - the International Standard on steel tongue strength, ISO 7641 (for the road categories).
A9: For simplicity, only the vertical strength requirement of either set of rules has been used. Users should satisfy
A10: themselves that this is a reasonable simplification.
A12: Simple and Detail Tables
A14: The simplest way to use this spreadsheet is one of the next two tabs, 'Simple Table'- for each popular tongue
A15: section, the maximum loaded trailer weight is shown for various tongue lengths.
A17: To analyse tongue strength in more detail, use the three remaining tabs, 'Single Tongue', 'A-Frame' and
A18: 'Composite Tongue' depending on the type of tongue design.
... A22: Three use/types are provided:
A24: Off-road | C24: This highest strength category is appropriate for both trailers that will be used off-road
C25: and those that the user wants to be especially durable. It is likely that all utility trailers
C26: should be included in this category, since they are likely to be used roughly in service.
A28: Braked road | C28: This is for trailers fitted with brakes that will only be used on-road.
A30: Unbraked road | C30: This lowest strength category is for trailers not fitted with brakes that will only be used
C31: on-road.
A33: The calculation for the two road categories uses the ISO 7641 standard and so meets IVA requirements.
A35: Teardrops may have a high tongue weight (ie, with wheels set towards the back of the trailer) and in that case
A36: it is recommended to use a category one level higher than shown (eg, braked instead of unbraked).
A38: Data Inputs
A40: The weight used in the calculation is the maximum loaded trailer weight - remember to include enough
A41: allowance for the weight of the trailer contents when in use.
A43: Tongue length, L, is measured from the centre of the coupler ball to the front cross-member of the main trailer
A44: frame, as shown in the diagrams. For frameless teardrops, this would be the front body mounting.
A46: Eccentricity, e, is measured vertically from the centre of the coupler ball to the centre of the tongue at the front
A47: cross-member. This only becomes significant when fairly large, so for most trailer frame designs, any small value
A48: will be suitable.
A60: Steel type - choose 'mild steel' as the safest option, 'higher strength' if you know that is appropriate, or
... A81: © Andrew Gibbens 2013

Sheet Simple Table Metric
A1: SIMPLE TONGUE STRENGTH TABLE - British Version
A3: The figures in blue are the maximum loaded trailer weight in kg.
A4: These are for welded mild steel tongues.
A5: Read in conjunction with the accompanying notes.
A6: Unbraked trailer weights much over 750kg are not shown, since UK law requires brakes at this weight.
A8: Single Tongue
F9: Tongue length L, mm
B10: 50 x 50 x 3.0 Square Hollow Section/Tube
D11: 750 | E11: 900 | F11: 1050 | G11: 1200 | H11: 1350
C12: Off-road | D12: 320 | E12: 270 | F12: 230 | G12: 200 | H12: 180
C13: Braked road | D13: 450 | E13: 375 | F13: 320 | G13: 280 | H13: 250
C14: Unbraked road | D14: 675 | E14: 560 | F14: 480 | G14: 420 | H14: 375
B16: 60 x 60 x 3.0 Square Hollow Section/Tube
D17: 750 | E17: 900 | F17: 1050 | G17: 1200 | H17: 1350
C18: Off-road | D18: 485 | E18: 405 | F18: 345 | G18: 305 | H18: 270
C19: Braked road | D19: 675 | E19: 560 | F19: 480 | G19: 420 | H19: =H18/0.72 -> 375
C20: Unbraked road | D20: - | E20: 840 | F20: 720 | G20: 630 | H20: 560
B22: 70 x 70 x 3.0 Square Hollow Section/Tube
D23: 750 | E23: 900 | F23: 1050 | G23: 1200 | H23: 1350
C24: Off-road | D24: 680 | E24: 565 | F24: 485 | G24: 425 | H24: 375
C25: Braked road | D25: 945 | E25: 785 | F25: 675 | G25: 590 | H25: 525
C26: Unbraked road | D26: - | E26: - | F26: - | G26: - | H26: 785
A29: A-Frame
F30: Tongue length L, mm
B31: 50 x 50 x 3 Equal Angle
D32: 750 | E32: 900 | F32: 1050 | G32: 1200 | H32: 1350
C33: Off-road | D33: 155 | E33: 130 | F33: 110 | G33: 95 | H33: 85
C34: Braked road | D34: 215 | E34: 180 | F34: 155 | G34: 135 | H34: 120
C35: Unbraked road | D35: 320 | E35: 265 | F35: 230 | G35: 200 | H35: 180
B37: 50 x 50 x 5 Equal Angle
D38: 750 | E38: 900 | F38: 1050 | G38: 1200 | H38: 1350
C39: Off-road | D39: 250 | E39: 210 | F39: 180 | G39: 160 | H39: 140
C40: Braked road | D40: 350 | E40: 290 | F40: 250 | G40: 220 | H40: 195
C41: Unbraked road | D41: 525 | E41: 440 | F41: 375 | G41: 330 | H41: 290
B43: 50 x 25 x 3.0 Rectangular Hollow Section/Tube with 50 dimension vertical
D44: 750 | E44: 900 | F44: 1050 | G44: 1200 | H44: 1350
C45: Off-road | D45: 370 | E45: 310 | F45: 265 | G45: 230 | H45: 205
C46: Braked road | D46: 515 | E46: 430 | F46: 365 | G46: 320 | H46: 285
C47: Unbraked road | D47: 770 | E47: 645 | F47: 550 | G47: 480 | H47: 430
B49: 50 x 50 x 3.0 Square Hollow Section/Tube
...

Sheet Simple Table Imperial
A1: SIMPLE TONGUE STRENGTH TABLE - British Version (Imperial Units)
A3: For those that hate metric units, this table uses imperial units but with metric steel sections.
A4: The figures in blue are the maximum loaded trailer weight in pounds.
A5: These are for welded mild steel tongues.
A6: Read in conjunction with the accompanying notes.
A7: Unbraked trailer weights much over 1650lb are not shown, since UK law requires brakes at this weight.
A9: Single Tongue
F10: Tongue length L, in
B11: 50 x 50 x 3.0 Square Hollow Section/Tube (approx 2" x 2" x 1/8")
D12: 30 | E12: 35 | F12: 41 | G12: 47 | H12: 53
C13: Off-road | D13: =ROUND('Simple Table Metric'!D12*2.204,-1) -> 710 | E13: =ROUND('Simple Table Metric'!E12*2.204,-1) -> 600 | F13: =ROUND('Simple Table Metric'!F12*2.204,-1) -> 510 | G13: =ROUND('Simple Table Metric'!G12*2.204,-1) -> 440 | H13: =ROUND('Simple Table Metric'!H12*2.204,-1) -> 400
C14: Braked road | D14: =ROUND('Simple Table Metric'!D13*2.204,-1) -> 990 | E14: =ROUND('Simple Table Metric'!E13*2.204,-1) -> 830 | F14: =ROUND('Simple Table Metric'!F13*2.204,-1) -> 710 | G14: =ROUND('Simple Table Metric'!G13*2.204,-1) -> 620 | H14: =ROUND('Simple Table Metric'!H13*2.204,-1) -> 550
C15: Unbraked road | D15: =ROUND('Simple Table Metric'!D14*2.204,-1) -> 1490 | E15: =ROUND('Simple Table Metric'!E14*2.204,-1) -> 1230 | F15: =ROUND('Simple Table Metric'!F14*2.204,-1) -> 1060 | G15: =ROUND('Simple Table Metric'!G14*2.204,-1) -> 930 | H15: =ROUND('Simple Table Metric'!H14*2.204,-1) -> 830
B17: 60 x 60 x 3.0 Square Hollow Section/Tube (approx 2-3/8" x 2-3/8" x 1/8")
D18: 30 | E18: 35 | F18: 41 | G18: 47 | H18: 53
C19: Off-road | D19: =ROUND('Simple Table Metric'!D18*2.204,-1) -> 1070 | E19: =ROUND('Simple Table Metric'!E18*2.204,-1) -> 890 | F19: =ROUND('Simple Table Metric'!F18*2.204,-1) -> 760 | G19: =ROUND('Simple Table Metric'!G18*2.204,-1) -> 670 | H19: =ROUND('Simple Table Metric'!H18*2.204,-1) -> 600
C20: Braked road | D20: =ROUND('Simple Table Metric'!D19*2.204,-1) -> 1490 | E20: =ROUND('Simple Table Metric'!E19*2.204,-1) -> 1230 | F20: =ROUND('Simple Table Metric'!F19*2.204,-1) -> 1060 | G20: =ROUND('Simple Table Metric'!G19*2.204,-1) -> 930 | H20: =ROUND('Simple Table Metric'!H19*2.204,-1) -> 830
C21: Unbraked road | D21: - | E21: =ROUND('Simple Table Metric'!E20*2.204,-1) -> 1850 | F21: =ROUND('Simple Table Metric'!F20*2.204,-1) -> 1590 | G21: =ROUND('Simple Table Metric'!G20*2.204,-1) -> 1390 | H21: =ROUND('Simple Table Metric'!H20*2.204,-1) -> 1230
B23: 70 x 70 x 3.0 Square Hollow Section/Tube (approx 2-3/4" x 2-3/4" x 1/8")
D24: 30 | E24: 35 | F24: 41 | G24: 47 | H24: 53
C25: Off-road | D25: =ROUND('Simple Table Metric'!D24*2.204,-1) -> 1500 | E25: =ROUND('Simple Table Metric'!E24*2.204,-1) -> 1250 | F25: =ROUND('Simple Table Metric'!F24*2.204,-1) -> 1070 | G25: =ROUND('Simple Table Metric'!G24*2.204,-1) -> 940 | H25: =ROUND('Simple Table Metric'!H24*2.204,-1) -> 830
C26: Braked road | D26: =ROUND('Simple Table Metric'!D25*2.204,-1) -> 2080 | E26: =ROUND('Simple Table Metric'!E25*2.204,-1) -> 1730 | F26: =ROUND('Simple Table Metric'!F25*2.204,-1) -> 1490 | G26: =ROUND('Simple Table Metric'!G25*2.204,-1) -> 1300 | H26: =ROUND('Simple Table Metric'!H25*2.204,-1) -> 1160
C27: Unbraked road | D27: - | E27: - | F27: - | G27: - | H27: =ROUND('Simple Table Metric'!H26*2.204,-1) -> 1730
A30: A-Frame
F31: Tongue length L, in
B32: 50 x 50 x 3 Equal Angle (approx 2" x 2" x 1/8")
D33: 30 | E33: 35 | F33: 41 | G33: 47 | H33: 53
C34: Off-road | D34: =ROUND('Simple Table Metric'!D33*2.204,-1) -> 340 | E34: =ROUND('Simple Table Metric'!E33*2.204,-1) -> 290 | F34: =ROUND('Simple Table Metric'!F33*2.204,-1) -> 240 | G34: =ROUND('Simple Table Metric'!G33*2.204,-1) -> 210 | H34: =ROUND('Simple Table Metric'!H33*2.204,-1) -> 190
C35: Braked road | D35: =ROUND('Simple Table Metric'!D34*2.204,-1) -> 470 | E35: =ROUND('Simple Table Metric'!E34*2.204,-1) -> 400 | F35: =ROUND('Simple Table Metric'!F34*2.204,-1) -> 340 | G35: =ROUND('Simple Table Metric'!G34*2.204,-1) -> 300 | H35: =ROUND('Simple Table Metric'!H34*2.204,-1) -> 260
C36: Unbraked road | D36: =ROUND('Simple Table Metric'!D35*2.204,-1) -> 710 | E36: =ROUND('Simple Table Metric'!E35*2.204,-1) -> 580 | F36: =ROUND('Simple Table Metric'!F35*2.204,-1) -> 510 | G36: =ROUND('Simple Table Metric'!G35*2.204,-1) -> 440 | H36: =ROUND('Simple Table Metric'!H35*2.204,-1) -> 400
B38: 50 x 50 x 5 Equal Angle (approx 2" x 2" x 3/16")
D39: 30 | E39: 35 | F39: 41 | G39: 47 | H39: 53
C40: Off-road | D40: =ROUND('Simple Table Metric'!D39*2.204,-1) -> 550 | E40: =ROUND('Simple Table Metric'!E39*2.204,-1) -> 460 | F40: =ROUND('Simple Table Metric'!F39*2.204,-1) -> 400 | G40: =ROUND('Simple Table Metric'!G39*2.204,-1) -> 350 | H40: =ROUND('Simple Table Metric'!H39*2.204,-1) -> 310
C41: Braked road | D41: =ROUND('Simple Table Metric'!D40*2.204,-1) -> 770 | E41: =ROUND('Simple Table Metric'!E40*2.204,-1) -> 640 | F41: =ROUND('Simple Table Metric'!F40*2.204,-1) -> 550 | G41: =ROUND('Simple Table Metric'!G40*2.204,-1) -> 480 | H41: =ROUND('Simple Table Metric'!H40*2.204,-1) -> 430
C42: Unbraked road | D42: =ROUND('Simple Table Metric'!D41*2.204,-1) -> 1160 | E42: =ROUND('Simple Table Metric'!E41*2.204,-1) -> 970 | F42: =ROUND('Simple Table Metric'!F41*2.204,-1) -> 830 | G42: =ROUND('Simple Table Metric'!G41*2.204,-1) -> 730 | H42: =ROUND('Simple Table Metric'!H41*2.204,-1) -> 640
B44: 50 x 25 x 3.0 Rectangular Hollow Section/Tube with 50 dimension vertical
B45: (approx 2" x 1" x 1/8")
D46: 30 | E46: 35 | F46: 41 | G46: 47 | H46: 53
C47: Off-road | D47: =ROUND('Simple Table Metric'!D46*2.204,-1) -> 1140 | E47: =ROUND('Simple Table Metric'!E46*2.204,-1) -> 950 | F47: =ROUND('Simple Table Metric'!F46*2.204,-1) -> 800 | G47: =ROUND('Simple Table Metric'!G46*2.204,-1) -> 710 | H47: =ROUND('Simple Table Metric'!H46*2.204,-1) -> 630
C48: Braked road | D48: =ROUND('Simple Table Metric'!D47*2.204,-1) -> 1700 | E48: =ROUND('Simple Table Metric'!E47*2.204,-1) -> 1420 | F48: =ROUND('Simple Table Metric'!F47*2.204,-1) -> 1210 | G48: =ROUND('Simple Table Metric'!G47*2.204,-1) -> 1060 | H48: =ROUND('Simple Table Metric'!H47*2.204,-1) -> 950
...

Sheet Single Tongue
B2: TONGUE STRENGTH, SINGLE TONGUE | D2: Input your data in yellow boxes, read result(s) in blue box(es)
K3: Calculation data
K4: Trailer use/type | L4: Mf factor | M4: MfD factor
C5: User Inputs | K5: Off-road | L5: 0.5 | M5: 1
C6: Trailer use/type | D6: Off-road | K6: Braked road | L6: 0.36 | M6: 0.8
K7: Unbraked road | L7: 0.24 | M7: 1
C8: Trailer loaded weight, kg | D8: 750
K9: Steel | L9: yield | M9: min ulimate
C10: Tongue length, L, mm | D10: 900 | K10: Mild steel | L10: 235 | M10: 360
K11: Higher strength | L11: 275 | M11: 430
C12: Tongue eccentricity, e, mm | D12: 50 | K12: User defined | L12: =D15*1 -> #VALUE! | M12: =D16*1 -> #VALUE!
C14: Steel type | D14: Mild steel | K14: Fabrication | L14: yield factor | M14: ult factor
C15: Yield stress, N/mm2 | D15: =IF($D$14=$K$12,"","* not required *") -> * not required * | K15: Welded | L15: 0.65 | M15: 0.45
C16: Ultimate stress, N/mm2 | D16: =IF($D$14=$K$12,"","* not required *") -> * not required * | K16: Non-welded | L16: 0.8 | M16: 0.6
C18: Tongue fabrication method | D18: Welded
K20: Calculations
K21: Horizontal tongue force, kN | O21: =9.81*32000*D8/(32000+D8)/1000 -> 7.1890076
C22: Results | K22: Eccentricity/length ratio | O22: =D12/D10 -> 0.055555556
C23: Minimum section modulus, Z, cm3 | E23: =O29/O34 -> 21.675123 | K23: Length factor | O23: =IF(D10>2500,MAX(0.6,(1.25-0.0001*D10)),1) -> 1
K24: Mf factor | O24: =VLOOKUP(D6,Use,2,FALSE) -> 0.5
C25: Now look in table below for section with suitable Z value - % req'd above 100% | K25: MfD factor | O25: =VLOOKUP(D6,Use,3,FALSE) -> 1
C26: Bigger dimensions (width, depth) are better for weight and stiffness than thicker steel | K26: Vertical bending moment, Nm | O26: =O24*D8*9.81*O23*D10/1000 -> 3310.875
K27: Braking bending moment, Nm | O27: =IF(O22>0.15,O25*O21*D12,0) -> 0
C28: It is suggested that a single tongue should a horizontal strength that is not much less than its vertical | K28: Combined bending moment, Nm | O28: =IF(O22>0.15,0.75*(O26+O27),0) -> 0
C29: strength, to avoid 'shimmy' problems. For this reason, the final column of the table below shows the | K29: Design bending moment, Nm | O29: =MAX(O26:O28) -> 3310.875
C30: ratio of horizontla to vertical strength, with values below 80% highlighted in red. | K30: Permissible stress factor to yield, - | O30: =VLOOKUP(D18,Fabrication,2,FALSE) -> 0.65
K31: Permissible stress factor to ultimate, - | O31: =VLOOKUP(D18,Fabrication,3,FALSE) -> 0.45
K32: Yield stress, N/mm2 | O32: =VLOOKUP(D14,Steel,2,FALSE) -> 235
G33: Ratio | K33: Ultimate stress, N/mm2 | O33: =VLOOKUP(D14,Steel,3,FALSE) -> 360
C34: Section Properties | D34: Z, cm3 | E34: % of req'd | F34: weight, kg/m | G34: horiz/vert | K34: Permissible stress, N/mm2 | O34: =MIN(O30*O32,O31*O33) -> 152.75
G35: strength
C36: Square Tube
C37: 30x30x2 | D37: 1.81 | E37: =D37/$E$23 -> 0.083505871 | F37: 1.68 | G37: 1
C38: 30x30x2.5 | D38: 2.1 | E38: =D38/$E$23 -> 0.096885264 | F38: 2.03 | G38: 1
C39: 30x30x3 | D39: 2.34 | E39: =D39/$E$23 -> 0.10795787 | F39: 2.36 | G39: 1
C40: 40x40x2 | D40: 3.47 | E40: =D40/$E$23 -> 0.16009137 | F40: 2.31 | G40: 1
C41: 40x40x2.5 | D41: 4.11 | E41: =D41/$E$23 -> 0.1896183 | F41: 2.82 | G41: 1
C42: 40x40x3 | D42: 4.66 | E42: =D42/$E$23 -> 0.21499302 | F42: 3.3 | G42: 1
C43: 40x40x4 | D43: 5.54 | E43: =D43/$E$23 -> 0.25559255 | F43: 4.2 | G43: 1
C44: 50x50x2 | D44: 5.66 | E44: =D44/$E$23 -> 0.26112886 | F44: 2.93 | G44: 1
...

Sheet A-frame
B2: TONGUE STRENGTH, A-FRAME | D2: Input your data in yellow boxes, read result(s) in blue box(es)
K3: Calculation data
K4: Trailer use/type | L4: Mf factor | M4: MfD factor
C5: User Inputs | K5: Off-road | L5: 0.5 | M5: 1
C6: Trailer use/type | D6: Off-road | K6: Braked road | L6: 0.36 | M6: 0.8
K7: Unbraked road | L7: 0.24 | M7: 1
C8: Trailer loaded weight, kg | D8: 750
K9: Steel | L9: yield | M9: min ulimate
C10: Tongue length, L, mm | D10: 900 | K10: Mild steel | L10: 235 | M10: 360
K11: Higher strength | L11: 275 | M11: 430
C12: Tongue eccentricity, e, mm | D12: 50 | K12: User defined | L12: =D15*1 -> #VALUE! | M12: =D16*1 -> #VALUE!
C14: Steel type | D14: Mild steel | K14: Fabrication | L14: yield factor | M14: ult factor
C15: Yield stress, N/mm2 | D15: =IF($D$14=$K$12,"","* not required *") -> * not required * | K15: Welded | L15: 0.65 | M15: 0.45
C16: Ultimate stress, N/mm2 | D16: =IF($D$14=$K$12,"","* not required *") -> * not required * | K16: Non-welded | L16: 0.8 | M16: 0.6
C18: Tongue fabrication method | D18: Welded
K20: Calculations
K21: Horizontal tongue force, kN | O21: =9.81*32000*D8/(32000+D8)/1000 -> 7.1890076
C22: Results | K22: Eccentricity/length ratio | O22: =D12/D10 -> 0.055555556
C23: Minimum section modulus, each side, Z, cm3 | E23: =O29/O34/2 -> 10.837561 | K23: Length factor | O23: =IF(D10>2500,MAX(0.6,(1.25-0.0001*D10)),1) -> 1
K24: Mf factor | O24: =VLOOKUP(D6,Use,2,FALSE) -> 0.5
C25: Now look in table below for section with suitable Z value - % req'd above 100% | K25: MfD factor | O25: =VLOOKUP(D6,Use,3,FALSE) -> 1
C26: Bigger dimensions (width, depth) are better for weight and stiffness than thicker steel | K26: Vertical bending moment, Nm | O26: =O24*D8*9.81*O23*D10/1000 -> 3310.875
K27: Braking bending moment, Nm | O27: =IF(O22>0.15,O25*O21*D12,0) -> 0
K28: Combined bending moment, Nm | O28: =IF(O22>0.15,0.75*(O26+O27),0) -> 0
K29: Design bending moment, Nm | O29: =MAX(O26:O28) -> 3310.875
C30: Section Properties | D30: Z, cm3 | E30: % of req'd | F30: weight, kg/m | K30: Permissible stress factor to yield, - | O30: =VLOOKUP(D18,Fabrication,2,FALSE) -> 0.65
K31: Permissible stress factor to ultimate, - | O31: =VLOOKUP(D18,Fabrication,3,FALSE) -> 0.45
C32: Equal Angle | K32: Yield stress, N/mm2 | O32: =VLOOKUP(D14,Steel,2,FALSE) -> 235
C33: 40x40x3 | D33: 1.18 | E33: =D33/$E$23 -> 0.10888058 | F33: 1.84 | K33: Ultimate stress, N/mm2 | O33: =VLOOKUP(D14,Steel,3,FALSE) -> 360
C34: 40x40x4 | D34: 1.55 | E34: =D34/$E$23 -> 0.1430211 | F34: 2.42 | K34: Permissible stress, N/mm2 | O34: =MIN(O30*O32,O31*O33) -> 152.75
C35: 40x40x5 | D35: 1.91 | E35: =D35/$E$23 -> 0.17623891 | F35: 2.97
C36: 40x40x6 | D36: 2.26 | E36: =D36/$E$23 -> 0.208534 | F36: 3.52
C37: 45x45x3 | D37: 1.49 | E37: =D37/$E$23 -> 0.1374848 | F37: 2.09
C38: 45x45x4 | D38: 1.97 | E38: =D38/$E$23 -> 0.18177521 | F38: 2.74
C39: 45x45x4.5 | D39: 2.2 | E39: =D39/$E$23 -> 0.2029977 | F39: 3.06
C40: 45x45x5 | D40: 2.43 | E40: =D40/$E$23 -> 0.22422018 | F40: 3.38
C41: 45x45x6 | D41: 2.88 | E41: =D41/$E$23 -> 0.26574244 | F41: 4
C42: 50x50x3 | D42: 1.86 | E42: =D42/$E$23 -> 0.17162533 | F42: 2.33
C43: 50x50x4 | D43: 2.46 | E43: =D43/$E$23 -> 0.22698833 | F43: 3.06
C44: 50x50x5 | D44: 3.05 | E44: =D44/$E$23 -> 0.28142863 | F44: 3.77
...

Sheet Composite
B2: TONGUE STRENGTH, COMPOSITE TONGUE | D2: Input your data in yellow boxes, read result(s) in blue/green/pink box(es)
K3: Calculation data
K4: Trailer use/type | L4: Mf factor | M4: MfD factor
C5: User Inputs | K5: Off-road | L5: 0.5 | M5: 1
C6: Trailer use/type | D6: Off-road | K6: Braked road | L6: 0.36 | M6: 0.8
K7: Unbraked road | L7: 0.24 | M7: 1
C8: Trailer loaded weight, kg | D8: 750
K9: Steel | L9: yield | M9: min ulimate
C10: Single tongue length, L1, mm | D10: 800 | K10: Mild steel | L10: 235 | M10: 360
C11: Overall tongue length, L2, mm | D11: 1200 | K11: Higher strength | L11: 275 | M11: 430
K12: User defined | L12: =D16*1 -> #VALUE! | M12: =D17*1 -> #VALUE!
C13: Tongue eccentricity, e, mm | D13: 50
K14: Fabrication | L14: yield factor | M14: ult factor
C15: Steel type | D15: Mild steel | K15: Welded | L15: 0.65 | M15: 0.45
C16: Yield stress, N/mm2 | D16: =IF($D$15=$K$12,"","* not required *") -> * not required * | K16: Non-welded | L16: 0.8 | M16: 0.6
C17: Ultimate stress, N/mm2 | D17: =IF($D$15=$K$12,"","* not required *") -> * not required *
C19: Tongue fabrication method | D19: Welded
K20: Calculations | O20: Single | P20: Overall
K21: Horizontal tongue force, kN | O21: =9.81*32000*D8/(32000+D8)/1000 -> 7.1890076
K22: Eccentricity/length ratio | O22: =D13/D11 -> 0.041666667
C23: Results | K23: Length factor | O23: =IF(D10>2500,MAX(0.6,(1.25-0.0001*D10)),1) -> 1 | P23: =IF(D11>2500,MAX(0.6,(1.25-0.0001*D11)),1) -> 1
C24: Minimum section modulus, single tongue only, Zmin1, cm3 | F24: =O29/O34 -> 19.266776 | G24: Zmin1 | K24: Mf factor | O24: =VLOOKUP(D6,Use,2,FALSE) -> 0.5
C25: Minimum section modulus, complete tongue, Zmin2, cm3 | F25: =P29/O34 -> 28.900164 | K25: MfD factor | O25: =VLOOKUP(D6,Use,3,FALSE) -> 1
C26: Minimum section modulus, each diagonal brace only, Zmin3, cm3 | F26: =(F25-F24)/2 -> 4.8166939 | G26: Zmin3 | K26: Vertical bending moment, Nm | O26: =O24*D8*9.81*O23*D10/1000 -> 2943 | P26: =O24*D8*9.81*P23*D11/1000 -> 4414.5
C27: note: Zmin3 = 0.5 * (Zmin2 - Zmin1) | K27: Braking bending moment, Nm | O27: =IF(O22>0.15,O25*O21*D13,0) -> 0 | P27: =IF(O22>0.15,O25*O21*D13,0) -> 0
C28: Now look in table below for sections with suitable Z values - % req'd above 100% | K28: Combined bending moment, Nm | O28: =IF(O22>0.15,0.75*(O26+O27),0) -> 0 | P28: =IF(O22>0.15,0.75*(P26+P27),0) -> 0
C29: Bigger dimensions (width, depth) are better for weight and stiffness than thicker steel | K29: Design bending moment, Nm | O29: =MAX(O26:O28) -> 2943 | P29: =MAX(P26:P28) -> 4414.5
K30: Permissible stress factor to yield, - | O30: =VLOOKUP(D19,Fabrication,2,FALSE) -> 0.65
C31: If you choose a single tongue section that is much stronger than the minimum, you can | K31: Permissible stress factor to ultimate, - | O31: =VLOOKUP(D19,Fabrication,3,FALSE) -> 0.45
C32: calculate the reduced strength required for the diagonal braces here: | K32: Yield stress, N/mm2 | O32: =VLOOKUP(D15,Steel,2,FALSE) -> 235
C33: Actual section modulus, single tongue chosen from table below, cm3 | G33: Chosen Z | K33: Ultimate stress, N/mm2 | O33: =VLOOKUP(D15,Steel,3,FALSE) -> 360
C34: Reduced min section modulus, each diagonal brace only, Zmin4, cm3 | F34: =IF(F33<F25,IF(F33<F24, "n/a",(F25-F33)/2),"not required") -> n/a | G34: Zmin4 | K34: Permissible stress, N/mm2 | O34: =MIN(O30*O32,O31*O33) -> 152.75
G37: Zmin3 | I37: Zmin4
C38: Section Properties | D38: Z, cm3 | E38: % of req'd | F38: weight, kg/m | G38: % of req'd | I38: % of req'd
G39: Diag brace | I39: reduced brace
C40: Equal Angle
C41: 40x40x3 | D41: 1.18 | E41: =D41/$F$24 -> 0.061245328 | F41: 1.84 | G41: =D41/$F$26 -> 0.24498131 | I41: =IF($F$33<>"",D41/$F$34,"-") -> -
C42: 40x40x4 | D42: 1.55 | E42: =D42/$F$24 -> 0.080449371 | F42: 2.42 | G42: =D42/$F$26 -> 0.32179749 | I42: =IF($F$33<>"",D42/$F$34,"-") -> -
C43: 40x40x5 | D43: 1.91 | E43: =D43/$F$24 -> 0.099134387 | F43: 2.97 | G43: =D43/$F$26 -> 0.39653755 | I43: =IF($F$33<>"",D43/$F$34,"-") -> -
C44: 40x40x6 | D44: 2.26 | E44: =D44/$F$24 -> 0.11730037 | F44: 3.52 | G44: =D44/$F$26 -> 0.4692015 | I44: =IF($F$33<>"",D44/$F$34,"-") -> -
...
