Workbook
Name Brakes2: 'A-frame'!$D$64:$F$65
Name Brakes2: Composite!$D$73:$F$74
Name Brakes2: 'Single Tongue'!$E$72:$F$73
Name Drawbar2: 'A-frame'!$D$73:$F$74
Name Drawbar2: Composite!$D$82:$F$83
Name Drawbar2: 'Single Tongue'!$E$99:$F$100
Name Fabrication: 'A-frame'!$K$15:$M$16
Name Fabrication: Composite!$K$15:$M$16
Name Fabrication: 'Single Tongue'!$K$15:$M$16
Name fabrication_1: 'A-frame'!$K$15:$K$16
Name fabrication_1: Composite!$K$15:$K$16
Name fabrication_1: 'Single Tongue'!$K$15:$K$16
Name Steel: 'A-frame'!$K$10:$M$12
Name Steel: Composite!$K$10:$M$12
Name Steel: 'Single Tongue'!$K$10:$M$12
Name steel_1: 'A-frame'!$K$10:$K$12
Name steel_1: Composite!$K$10:$K$12
Name steel_1: 'Single Tongue'!$K$10:$K$12
Name Steel2: 'A-frame'!$D$68:$F$70
Name Steel2: Composite!$D$77:$F$79
Name Steel2: 'Single Tongue'!$E$89:$F$91
Name Use: 'A-frame'!$K$5:$M$7
Name Use: Composite!$K$5:$M$7
Name Use: 'Single Tongue'!$K$5:$M$7
Name use_1: 'A-frame'!$K$5:$K$7
Name use_1: Composite!$K$5:$K$7
Name use_1: 'Single Tongue'!$K$5:$K$7

Sheet Introduction
A1: UNIFIED TONGUE STRENGTH SPREADSHEET - BRITISH
A3: Application Notes
A5: This spreadsheet is based on a loose combination of parts of:
A6: - the Australian trailer rules, VSB01/Rev5/2009 (for the off-road category), and
A7: - the International Standard on steel tongue strength, ISO 7641 (for the road categories).
A9: For simplicity, only the vertical strength requirement of either set of rules has been used. Users should satisfy
A10: themselves that this is a reasonable simplification.
A12: Simple and Detail Tables
A14: The simplest way to use this spreadsheet is one of the next two tabs, 'Simple Table'- for each popular tongue
A15: section, the maximum loaded trailer weight is shown for various tongue lengths.
A17: To analyse tongue strength in more detail, use the three remaining tabs, 'Single Tongue', 'A-Frame' and
A18: 'Composite Tongue' depending on the type of tongue design.
... A22: Three use/types are provided:
A24: Off-road | C24: This highest strength category is appropriate for both trailers that will be used off-road
C25: and those that the user wants to be especially durable. It is likely that all utility trailers
C26: should be included in this category, since they are likely to be used roughly in service.
A28: Braked road | C28: This is for trailers fitted with brakes that will only be used on-road.
A30: Unbraked road | C30: This lowest strength category is for trailers not fitted with brakes that will only be used
C31: on-road.
A33: The calculation for the two road categories uses the ISO 7641 standard and so meets IVA requirements.
A35: Teardrops may have a high tongue weight (ie, with wheels set towards the back of the trailer) and in that case
A36: it is recommended to use a category one level higher than shown (eg, braked instead of unbraked).
A38: Data Inputs
A40: The weight used in the calculation is the maximum loaded trailer weight - remember to include enough
A41: allowance for the weight of the trailer contents when in use.
A43: Tongue length, L, is measured from the centre of the coupler ball to the front cross-member of the main trailer
A44: frame, as shown in the diagrams. For frameless teardrops, this would be the front body mounting.
A46: Eccentricity, e, is measured vertically from the centre of the coupler ball to the centre of the tongue at the front
A47: cross-member. This only becomes significant when fairly large, so for most trailer frame designs, any small value
A48: will be suitable.
A60: Steel type - choose 'mild steel' as the safest option, 'higher strength' if you know that is appropriate, or
... A81: © Andrew Gibbens 2013

Sheet Simple Table Metric
A1: SIMPLE TONGUE STRENGTH TABLE - British Version
A3: The figures in blue are the maximum loaded trailer weight in kg.
A4: These are for welded mild steel tongues.
A5: Read in conjunction with the accompanying notes.
A6: Unbraked trailer weights much over 750kg are not shown, since UK law requires brakes at this weight.
A8: Single Tongue
F9: Tongue length L, mm
B10: 50 x 50 x 3.0 Square Hollow Section/Tube
D11: 750 | E11: 900 | F11: 1050 | G11: 1200 | H11: 1350
C12: Off-road | D12: 320 | E12: 270 | F12: 230 | G12: 200 | H12: 180
C13: Braked road | D13: 450 | E13: 375 | F13: 320 | G13: 280 | H13: 250
C14: Unbraked road | D14: 675 | E14: 560 | F14: 480 | G14: 420 | H14: 375
B16: 60 x 60 x 3.0 Square Hollow Section/Tube
D17: 750 | E17: 900 | F17: 1050 | G17: 1200 | H17: 1350
C18: Off-road | D18: 485 | E18: 405 | F18: 345 | G18: 305 | H18: 270
C19: Braked road | D19: 675 | E19: 560 | F19: 480 | G19: 420 | H19: =H18/0.72 -> 375
C20: Unbraked road | D20: - | E20: 840 | F20: 720 | G20: 630 | H20: 560
B22: 70 x 70 x 3.0 Square Hollow Section/Tube
D23: 750 | E23: 900 | F23: 1050 | G23: 1200 | H23: 1350
C24: Off-road | D24: 680 | E24: 565 | F24: 485 | G24: 425 | H24: 375
C25: Braked road | D25: 945 | E25: 785 | F25: 675 | G25: 590 | H25: 525
C26: Unbraked road | D26: - | E26: - | F26: - | G26: - | H26: 785
A29: A-Frame
F30: Tongue length L, mm
B31: 50 x 50 x 3 Equal Angle
D32: 750 | E32: 900 | F32: 1050 | G32: 1200 | H32: 1350
C33: Off-road | D33: 155 | E33: 130 | F33: 110 | G33: 95 | H33: 85
C34: Braked road | D34: 215 | E34: 180 | F34: 155 | G34: 135 | H34: 120
C35: Unbraked road | D35: 320 | E35: 265 | F35: 230 | G35: 200 | H35: 180
B37: 50 x 50 x 5 Equal Angle
D38: 750 | E38: 900 | F38: 1050 | G38: 1200 | H38: 1350
C39: Off-road | D39: 250 | E39: 210 | F39: 180 | G39: 160 | H39: 140
C40: Braked road | D40: 350 | E40: 290 | F40: 250 | G40: 220 | H40: 195
C41: Unbraked road | D41: 525 | E41: 440 | F41: 375 | G41: 330 | H41: 290
B43: 50 x 25 x 3.0 Rectangular Hollow Section/Tube with 50 dimension vertical
D44: 750 | E44: 900 | F44: 1050 | G44: 1200 | H44: 1350
C45: Off-road | D45: 370 | E45: 310 | F45: 265 | G45: 230 | H45: 205
C46: Braked road | D46: 515 | E46: 430 | F46: 365 | G46: 320 | H46: 285
C47: Unbraked road | D47: 770 | E47: 645 | F47: 550 | G47: 480 | H47: 430
B49: 50 x 50 x 3.0 Square Hollow Section/Tube
D50: 750 | E50: 900 | F50: 1050 | G50: 1200 | H50: 1350
C51: Off-road | D51: 645 | E51: 540 | F51: 460 | G51: 405 | H51: 360
C52: Braked road | D52: 895 | E52: 750 | F52: 640 | G52: 560 | H52: 500
C53: Unbraked road | D53: - | E53: - | F53: - | G53: 840 | H53: 750
A56: Composite Tongue
F57: Central-only Length L1 + Total Length L2, mm
B58: 50 x 50 x 3.0 Square Hollow Section/Tube Central Tongue +
B59: 50 x 50 x 3 Equal Angle Diagonal Braces
D60: 500+750 | E60: 600+900 | F60: 700+1050 | G60: 800+1200 | H60: 900+1350
C61: Off-road | D61: 475 | E61: 395 | F61: 340 | G61: 295 | H61: 265
C62: Braked road | D62: 660 | E62: 550 | F62: 475 | G62: 415 | H62: 365
C63: Unbraked road | D63: - | E63: 830 | F63: 710 | G63: 620 | H63: 550
B65: 60 x 60 x 3.0 Square Hollow Section/Tube Central Tongue +
B66: 50 x 50 x 5 Equal Angle Diagonal Braces
D67: 500+750 | E67: 600+900 | F67: 700+1050 | G67: 800+1200 | H67: 900+1350
C68: Off-road | D68: 730 | E68: 605 | F68: 520 | G68: 455 | H68: 405
C69: Braked road | D69: 1010 | E69: 840 | F69: 720 | G69: 630 | H69: 560
C70: Unbraked road | D70: - | E70: - | F70: - | G70: - | H70: -
B72: 70 x 70 x 3.0 Square Hollow Section/Tube Central Tongue +
B73: 50 x 25 x 3.0 Rectangular Hollow Section/Tube Diagonal Braces with 50 dimension vertical
D74: 500+750 | E74: 600+900 | F74: 700+1050 | G74: 800+1200 | H74: 900+1350
C75: Off-road | D75: 1020 | E75: 850 | F75: 725 | G75: 635 | H75: 565
C76: Braked road | D76: 1415 | E76: 1180 | F76: 1010 | G76: 885 | H76: 785
C77: Unbraked road | D77: - | E77: - | F77: - | G77: - | H77: - | K77: © Andrew Gibbens 2013

Sheet Simple Table Imperial
A1: SIMPLE TONGUE STRENGTH TABLE - British Version (Imperial Units)
A3: For those that hate metric units, this table uses imperial units but with metric steel sections.
A4: The figures in blue are the maximum loaded trailer weight in pounds.
A5: These are for welded mild steel tongues.
A6: Read in conjunction with the accompanying notes.
A7: Unbraked trailer weights much over 1650lb are not shown, since UK law requires brakes at this weight.
A9: Single Tongue
F10: Tongue length L, in
B11: 50 x 50 x 3.0 Square Hollow Section/Tube (approx 2" x 2" x 1/8")
D12: 30 | E12: 35 | F12: 41 | G12: 47 | H12: 53
C13: Off-road | D13: =ROUND('Simple Table Metric'!D12*2.204,-1) -> 710 | E13: =ROUND('Simple Table Metric'!E12*2.204,-1) -> 600 | F13: =ROUND('Simple Table Metric'!F12*2.204,-1) -> 510 | G13: =ROUND('Simple Table Metric'!G12*2.204,-1) -> 440 | H13: =ROUND('Simple Table Metric'!H12*2.204,-1) -> 400
C14: Braked road | D14: =ROUND('Simple Table Metric'!D13*2.204,-1) -> 990 | E14: =ROUND('Simple Table Metric'!E13*2.204,-1) -> 830 | F14: =ROUND('Simple Table Metric'!F13*2.204,-1) -> 710 | G14: =ROUND('Simple Table Metric'!G13*2.204,-1) -> 620 | H14: =ROUND('Simple Table Metric'!H13*2.204,-1) -> 550
C15: Unbraked road | D15: =ROUND('Simple Table Metric'!D14*2.204,-1) -> 1490 | E15: =ROUND('Simple Table Metric'!E14*2.204,-1) -> 1230 | F15: =ROUND('Simple Table Metric'!F14*2.204,-1) -> 1060 | G15: =ROUND('Simple Table Metric'!G14*2.204,-1) -> 930 | H15: =ROUND('Simple Table Metric'!H14*2.204,-1) -> 830
B17: 60 x 60 x 3.0 Square Hollow Section/Tube (approx 2-3/8" x 2-3/8" x 1/8")
D18: 30 | E18: 35 | F18: 41 | G18: 47 | H18: 53
C19: Off-road | D19: =ROUND('Simple Table Metric'!D18*2.204,-1) -> 1070 | E19: =ROUND('Simple Table Metric'!E18*2.204,-1) -> 890 | F19: =ROUND('Simple Table Metric'!F18*2.204,-1) -> 760 | G19: =ROUND('Simple Table Metric'!G18*2.204,-1) -> 670 | H19: =ROUND('Simple Table Metric'!H18*2.204,-1) -> 600
C20: Braked road | D20: =ROUND('Simple Table Metric'!D19*2.204,-1) -> 1490 | E20: =ROUND('Simple Table Metric'!E19*2.204,-1) -> 1230 | F20: =ROUND('Simple Table Metric'!F19*2.204,-1) -> 1060 | G20: =ROUND('Simple Table Metric'!G19*2.204,-1) -> 930 | H20: =ROUND('Simple Table Metric'!H19*2.204,-1) -> 830
C21: Unbraked road | D21: - | E21: =ROUND('Simple Table Metric'!E20*2.204,-1) -> 1850 | F21: =ROUND('Simple Table Metric'!F20*2.204,-1) -> 1590 | G21: =ROUND('Simple Table Metric'!G20*2.204,-1) -> 1390 | H21: =ROUND('Simple Table Metric'!H20*2.204,-1) -> 1230
B23: 70 x 70 x 3.0 Square Hollow Section/Tube (approx 2-3/4" x 2-3/4" x 1/8")
D24: 30 | E24: 35 | F24: 41 | G24: 47 | H24: 53
C25: Off-road | D25: =ROUND('Simple Table Metric'!D24*2.204,-1) -> 1500 | E25: =ROUND('Simple Table Metric'!E24*2.204,-1) -> 1250 | F25: =ROUND('Simple Table Metric'!F24*2.204,-1) -> 1070 | G25: =ROUND('Simple Table Metric'!G24*2.204,-1) -> 940 | H25: =ROUND('Simple Table Metric'!H24*2.204,-1) -> 830
C26: Braked road | D26: =ROUND('Simple Table Metric'!D25*2.204,-1) -> 2080 | E26: =ROUND('Simple Table Metric'!E25*2.204,-1) -> 1730 | F26: =ROUND('Simple Table Metric'!F25*2.204,-1) -> 1490 | G26: =ROUND('Simple Table Metric'!G25*2.204,-1) -> 1300 | H26: =ROUND('Simple Table Metric'!H25*2.204,-1) -> 1160
C27: Unbraked road | D27: - | E27: - | F27: - | G27: - | H27: =ROUND('Simple Table Metric'!H26*2.204,-1) -> 1730
A30: A-Frame
F31: Tongue length L, in
B32: 50 x 50 x 3 Equal Angle (approx 2" x 2" x 1/8")
D33: 30 | E33: 35 | F33: 41 | G33: 47 | H33: 53
C34: Off-road | D34: =ROUND('Simple Table Metric'!D33*2.204,-1) -> 340 | E34: =ROUND('Simple Table Metric'!E33*2.204,-1) -> 290 | F34: =ROUND('Simple Table Metric'!F33*2.204,-1) -> 240 | G34: =ROUND('Simple Table Metric'!G33*2.204,-1) -> 210 | H34: =ROUND('Simple Table Metric'!H33*2.204,-1) -> 190
C35: Braked road | D35: =ROUND('Simple Table Metric'!D34*2.204,-1) -> 470 | E35: =ROUND('Simple Table Metric'!E34*2.204,-1) -> 400 | F35: =ROUND('Simple Table Metric'!F34*2.204,-1) -> 340 | G35: =ROUND('Simple Table Metric'!G34*2.204,-1) -> 300 | H35: =ROUND('Simple Table Metric'!H34*2.204,-1) -> 260
C36: Unbraked road | D36: =ROUND('Simple Table Metric'!D35*2.204,-1) -> 710 | E36: =ROUND('Simple Table Metric'!E35*2.204,-1) -> 580 | F36: =ROUND('Simple Table Metric'!F35*2.204,-1) -> 510 | G36: =ROUND('Simple Table Metric'!G35*2.204,-1) -> 440 | H36: =ROUND('Simple Table Metric'!H35*2.204,-1) -> 400
B38: 50 x 50 x 5 Equal Angle (approx 2" x 2" x 3/16")
D39: 30 | E39: 35 | F39: 41 | G39: 47 | H39: 53
C40: Off-road | D40: =ROUND('Simple Table Metric'!D39*2.204,-1) -> 550 | E40: =ROUND('Simple Table Metric'!E39*2.204,-1) -> 460 | F40: =ROUND('Simple Table Metric'!F39*2.204,-1) -> 400 | G40: =ROUND('Simple Table Metric'!G39*2.204,-1) -> 350 | H40: =ROUND('Simple Table Metric'!H39*2.204,-1) -> 310
C41: Braked road | D41: =ROUND('Simple Table Metric'!D40*2.204,-1) -> 770 | E41: =ROUND('Simple Table Metric'!E40*2.204,-1) -> 640 | F41: =ROUND('Simple Table Metric'!F40*2.204,-1) -> 550 | G41: =ROUND('Simple Table Metric'!G40*2.204,-1) -> 480 | H41: =ROUND('Simple Table Metric'!H40*2.204,-1) -> 430
C42: Unbraked road | D42: =ROUND('Simple Table Metric'!D41*2.204,-1) -> 1160 | E42: =ROUND('Simple Table Metric'!E41*2.204,-1) -> 970 | F42: =ROUND('Simple Table Metric'!F41*2.204,-1) -> 830 | G42: =ROUND('Simple Table Metric'!G41*2.204,-1) -> 730 | H42: =ROUND('Simple Table Metric'!H41*2.204,-1) -> 640
B44: 50 x 25 x 3.0 Rectangular Hollow Section/Tube with 50 dimension vertical
B45: (approx 2" x 1" x 1/8")
D46: 30 | E46: 35 | F46: 41 | G46: 47 | H46: 53
C47: Off-road | D47: =ROUND('Simple Table Metric'!D46*2.204,-1) -> 1140 | E47: =ROUND('Simple Table Metric'!E46*2.204,-1) -> 950 | F47: =ROUND('Simple Table Metric'!F46*2.204,-1) -> 800 | G47: =ROUND('Simple Table Metric'!G46*2.204,-1) -> 710 | H47: =ROUND('Simple Table Metric'!H46*2.204,-1) -> 630
C48: Braked road | D48: =ROUND('Simple Table Metric'!D47*2.204,-1) -> 1700 | E48: =ROUND('Simple Table Metric'!E47*2.204,-1) -> 1420 | F48: =ROUND('Simple Table Metric'!F47*2.204,-1) -> 1210 | G48: =ROUND('Simple Table Metric'!G47*2.204,-1) -> 1060 | H48: =ROUND('Simple Table Metric'!H47*2.204,-1) -> 950
C49: Unbraked road | D49: - | E49: - | F49: - | G49: - | H49: -
B51: 50 x 50 x 3.0 Square Hollow Section/Tube (approx 2" x 2" x 1/8")
D52: 30 | E52: 35 | F52: 41 | G52: 47 | H52: 53
C53: Off-road | D53: =ROUND('Simple Table Metric'!D51*2.204,-1) -> 1420 | E53: =ROUND('Simple Table Metric'!E51*2.204,-1) -> 1190 | F53: =ROUND('Simple Table Metric'!F51*2.204,-1) -> 1010 | G53: =ROUND('Simple Table Metric'!G51*2.204,-1) -> 890 | H53: =ROUND('Simple Table Metric'!H51*2.204,-1) -> 790
C54: Braked road | D54: =ROUND('Simple Table Metric'!D52*2.204,-1) -> 1970 | E54: =ROUND('Simple Table Metric'!E52*2.204,-1) -> 1650 | F54: =ROUND('Simple Table Metric'!F52*2.204,-1) -> 1410 | G54: =ROUND('Simple Table Metric'!G52*2.204,-1) -> 1230 | H54: =ROUND('Simple Table Metric'!H52*2.204,-1) -> 1100
C55: Unbraked road | D55: - | E55: - | F55: - | G55: =ROUND('Simple Table Metric'!G53*2.204,-1) -> 1850 | H55: =ROUND('Simple Table Metric'!H53*2.204,-1) -> 1650
A58: Composite Tongue
F59: Central-only Length L1 + Total Length L2, in
B60: 50 x 50 x 3.0 Square Hollow Section/Tube Central Tongue +
B61: 50 x 50 x 3 Equal Angle Diagonal Braces
D62: 20+30 | E62: 24+35 | F62: 28+41 | G62: 31+47 | H62: 35+53
C63: Off-road | D63: =ROUND('Simple Table Metric'!D61*2.204,-1) -> 1050 | E63: =ROUND('Simple Table Metric'!E61*2.204,-1) -> 870 | F63: =ROUND('Simple Table Metric'!F61*2.204,-1) -> 750 | G63: =ROUND('Simple Table Metric'!G61*2.204,-1) -> 650 | H63: =ROUND('Simple Table Metric'!H61*2.204,-1) -> 580
C64: Braked road | D64: =ROUND('Simple Table Metric'!D62*2.204,-1) -> 1450 | E64: =ROUND('Simple Table Metric'!E62*2.204,-1) -> 1210 | F64: =ROUND('Simple Table Metric'!F62*2.204,-1) -> 1050 | G64: =ROUND('Simple Table Metric'!G62*2.204,-1) -> 910 | H64: =ROUND('Simple Table Metric'!H62*2.204,-1) -> 800
C65: Unbraked road | D65: - | E65: =ROUND('Simple Table Metric'!E63*2.204,-1) -> 1830 | F65: =ROUND('Simple Table Metric'!F63*2.204,-1) -> 1560 | G65: =ROUND('Simple Table Metric'!G63*2.204,-1) -> 1370 | H65: =ROUND('Simple Table Metric'!H63*2.204,-1) -> 1210
B67: 60 x 60 x 3.0 Square Hollow Section/Tube Central Tongue +
B68: 50 x 50 x 5 Equal Angle Diagonal Braces
D69: 20+30 | E69: 24+35 | F69: 28+41 | G69: 31+47 | H69: 35+53
C70: Off-road | D70: =ROUND('Simple Table Metric'!D68*2.204,-1) -> 1610 | E70: =ROUND('Simple Table Metric'!E68*2.204,-1) -> 1330 | F70: =ROUND('Simple Table Metric'!F68*2.204,-1) -> 1150 | G70: =ROUND('Simple Table Metric'!G68*2.204,-1) -> 1000 | H70: =ROUND('Simple Table Metric'!H68*2.204,-1) -> 890
C71: Braked road | D71: =ROUND('Simple Table Metric'!D69*2.204,-1) -> 2230 | E71: =ROUND('Simple Table Metric'!E69*2.204,-1) -> 1850 | F71: =ROUND('Simple Table Metric'!F69*2.204,-1) -> 1590 | G71: =ROUND('Simple Table Metric'!G69*2.204,-1) -> 1390 | H71: =ROUND('Simple Table Metric'!H69*2.204,-1) -> 1230
C72: Unbraked road | D72: - | E72: - | F72: - | G72: - | H72: -
B74: 70 x 70 x 3.0 Square Hollow Section/Tube Central Tongue +
B75: 50 x 25 x 3.0 Rectangular Hollow Section/Tube Diagonal Braces (50 dimension vertical)
D76: 20+30 | E76: 24+35 | F76: 28+41 | G76: 31+47 | H76: 35+53
C77: Off-road | D77: =ROUND('Simple Table Metric'!D75*2.204,-1) -> 2250 | E77: =ROUND('Simple Table Metric'!E75*2.204,-1) -> 1870 | F77: =ROUND('Simple Table Metric'!F75*2.204,-1) -> 1600 | G77: =ROUND('Simple Table Metric'!G75*2.204,-1) -> 1400 | H77: =ROUND('Simple Table Metric'!H75*2.204,-1) -> 1250
C78: Braked road | D78: =ROUND('Simple Table Metric'!D76*2.204,-1) -> 3120 | E78: =ROUND('Simple Table Metric'!E76*2.204,-1) -> 2600 | F78: =ROUND('Simple Table Metric'!F76*2.204,-1) -> 2230 | G78: =ROUND('Simple Table Metric'!G76*2.204,-1) -> 1950 | H78: =ROUND('Simple Table Metric'!H76*2.204,-1) -> 1730
C79: Unbraked road | D79: - | E79: - | F79: - | G79: - | H79: - | K79: © Andrew Gibbens 2013

Sheet Single Tongue
B2: TONGUE STRENGTH, SINGLE TONGUE | D2: Input your data in yellow boxes, read result(s) in blue box(es)
K3: Calculation data
K4: Trailer use/type | L4: Mf factor | M4: MfD factor
C5: User Inputs | K5: Off-road | L5: 0.5 | M5: 1
C6: Trailer use/type | D6: Off-road | K6: Braked road | L6: 0.36 | M6: 0.8
K7: Unbraked road | L7: 0.24 | M7: 1
C8: Trailer loaded weight, kg | D8: 750
K9: Steel | L9: yield | M9: min ulimate
C10: Tongue length, L, mm | D10: 900 | K10: Mild steel | L10: 235 | M10: 360
K11: Higher strength | L11: 275 | M11: 430
C12: Tongue eccentricity, e, mm | D12: 50 | K12: User defined | L12: =D15*1 -> #VALUE! | M12: =D16*1 -> #VALUE!
C14: Steel type | D14: Mild steel | K14: Fabrication | L14: yield factor | M14: ult factor
C15: Yield stress, N/mm2 | D15: =IF($D$14=$K$12,"","* not required *") -> * not required * | K15: Welded | L15: 0.65 | M15: 0.45
C16: Ultimate stress, N/mm2 | D16: =IF($D$14=$K$12,"","* not required *") -> * not required * | K16: Non-welded | L16: 0.8 | M16: 0.6
C18: Tongue fabrication method | D18: Welded
K20: Calculations
K21: Horizontal tongue force, kN | O21: =9.81*32000*D8/(32000+D8)/1000 -> 7.1890076
C22: Results | K22: Eccentricity/length ratio | O22: =D12/D10 -> 0.055555556
C23: Minimum section modulus, Z, cm3 | E23: =O29/O34 -> 21.675123 | K23: Length factor | O23: =IF(D10>2500,MAX(0.6,(1.25-0.0001*D10)),1) -> 1
K24: Mf factor | O24: =VLOOKUP(D6,Use,2,FALSE) -> 0.5
C25: Now look in table below for section with suitable Z value - % req'd above 100% | K25: MfD factor | O25: =VLOOKUP(D6,Use,3,FALSE) -> 1
C26: Bigger dimensions (width, depth) are better for weight and stiffness than thicker steel | K26: Vertical bending moment, Nm | O26: =O24*D8*9.81*O23*D10/1000 -> 3310.875
K27: Braking bending moment, Nm | O27: =IF(O22>0.15,O25*O21*D12,0) -> 0
C28: It is suggested that a single tongue should a horizontal strength that is not much less than its vertical | K28: Combined bending moment, Nm | O28: =IF(O22>0.15,0.75*(O26+O27),0) -> 0
C29: strength, to avoid 'shimmy' problems. For this reason, the final column of the table below shows the | K29: Design bending moment, Nm | O29: =MAX(O26:O28) -> 3310.875
C30: ratio of horizontla to vertical strength, with values below 80% highlighted in red. | K30: Permissible stress factor to yield, - | O30: =VLOOKUP(D18,Fabrication,2,FALSE) -> 0.65
K31: Permissible stress factor to ultimate, - | O31: =VLOOKUP(D18,Fabrication,3,FALSE) -> 0.45
K32: Yield stress, N/mm2 | O32: =VLOOKUP(D14,Steel,2,FALSE) -> 235
G33: Ratio | K33: Ultimate stress, N/mm2 | O33: =VLOOKUP(D14,Steel,3,FALSE) -> 360
C34: Section Properties | D34: Z, cm3 | E34: % of req'd | F34: weight, kg/m | G34: horiz/vert | K34: Permissible stress, N/mm2 | O34: =MIN(O30*O32,O31*O33) -> 152.75
G35: strength
C36: Square Tube
C37: 30x30x2 | D37: 1.81 | E37: =D37/$E$23 -> 0.083505871 | F37: 1.68 | G37: 1
C38: 30x30x2.5 | D38: 2.1 | E38: =D38/$E$23 -> 0.096885264 | F38: 2.03 | G38: 1
C39: 30x30x3 | D39: 2.34 | E39: =D39/$E$23 -> 0.10795787 | F39: 2.36 | G39: 1
C40: 40x40x2 | D40: 3.47 | E40: =D40/$E$23 -> 0.16009137 | F40: 2.31 | G40: 1
C41: 40x40x2.5 | D41: 4.11 | E41: =D41/$E$23 -> 0.1896183 | F41: 2.82 | G41: 1
C42: 40x40x3 | D42: 4.66 | E42: =D42/$E$23 -> 0.21499302 | F42: 3.3 | G42: 1
C43: 40x40x4 | D43: 5.54 | E43: =D43/$E$23 -> 0.25559255 | F43: 4.2 | G43: 1
C44: 50x50x2 | D44: 5.66 | E44: =D44/$E$23 -> 0.26112886 | F44: 2.93 | G44: 1
C45: 50x50x2.5 | D45: 6.78 | E45: =D45/$E$23 -> 0.312801 | F45: 3.6 | G45: 1
C46: 50x50x3 | D46: 7.79 | E46: =D46/$E$23 -> 0.3593982 | F46: 4.25 | G46: 1
C47: 50x50x4 | D47: 9.49 | E47: =D47/$E$23 -> 0.43782912 | F47: 5.45 | G47: 1
C48: 50x50x5 | D48: 10.8 | E48: =D48/$E$23 -> 0.49826707 | F48: 6.56 | G48: 1
... C69: 80x80x8 | D69: 42.1 | E69: =D69/$E$23 -> 1.9423189 | F69: 16.4 | G69: 1
C71: Rectangular tube (biggest dimension vertical)
C72: 40x20x2 | D72: 2.02 | E72: =D72/$E$23 -> 0.093194397 | F72: 1.68 | G72: 0.66336634
C73: 40x20x2.5 | D73: 2.35 | E73: =D73/$E$23 -> 0.10841922 | F73: 2.03 | G73: 0.65531915
C74: 40x20x3 | D74: 2.6 | E74: =D74/$E$23 -> 0.11995318 | F74: 2.36 | G74: 0.64615385
C75: 50x25x2 | D75: 3.35 | E75: =D75/$E$23 -> 0.15455506 | F75: 2.15 | G75: 0.67164179
C76: 50x25x2.5 | D76: 3.95 | E76: =D76/$E$23 -> 0.18223657 | F76: 2.62 | G76: 0.66329114
C77: 50x25x3 | D77: 4.47 | E77: =D77/$E$23 -> 0.20622721 | F77: 3.07 | G77: 0.65548098
C78: 50x30x2 | D78: 3.81 | E78: =D78/$E$23 -> 0.17577755 | F78: 2.31 | G78: 0.75065617
C79: 50x30x2.5 | D79: 4.52 | E79: =D79/$E$23 -> 0.208534 | F79: 2.82 | G79: 0.74557522
C80: 50x30x3 | D80: 5.13 | E80: =D80/$E$23 -> 0.23667686 | F80: 3.3 | G80: 0.74074074
C81: 50x30x4 | D81: 6.1 | E81: =D81/$E$23 -> 0.28142863 | F81: 4.2 | G81: 0.73114754
C82: 60x40x2 | D82: 6.14 | E82: =D82/$E$23 -> 0.28327406 | F82: 2.93 | G82: 0.80130293
C83: 60x40x2.5 | D83: 7.36 | E83: =D83/$E$23 -> 0.33955978 | F83: 3.6 | G83: 0.79755435
... C101: 80x60x5 | D101: 25.8 | E101: =D101/$E$23 -> 1.1903047 | F101: 9.7 | G101: 0.84883721
C103: Rectangular tube (biggest dimension horizontal)
C104: 40x20x2 | D104: 1.34 | E104: =D104/$E$23 -> 0.061822026 | F104: 1.68 | G104: 1.5074627
C105: 40x20x2.5 | D105: 1.54 | E105: =D105/$E$23 -> 0.071049194 | F105: 2.03 | G105: 1.525974
C106: 40x20x3 | D106: 1.68 | E106: =D106/$E$23 -> 0.077508212 | F106: 2.36 | G106: 1.547619
C107: 50x25x2 | D107: 2.25 | E107: =D107/$E$23 -> 0.10380564 | F107: 2.15 | G107: 1.4888889
C108: 50x25x2.5 | D108: 2.62 | E108: =D108/$E$23 -> 0.1208759 | F108: 2.62 | G108: 1.5076336
C109: 50x25x3 | D109: 2.93 | E109: =D109/$E$23 -> 0.13517801 | F109: 3.07 | G109: 1.5255973
C110: 50x30x2 | D110: 2.86 | E110: =D110/$E$23 -> 0.1319485 | F110: 2.31 | G110: 1.3321678
C111: 50x30x2.5 | D111: 3.37 | E111: =D111/$E$23 -> 0.15547778 | F111: 2.82 | G111: 1.3412463
C112: 50x30x3 | D112: 3.8 | E112: =D112/$E$23 -> 0.17531619 | F112: 3.3 | G112: 1.35
C113: 50x30x4 | D113: 4.46 | E113: =D113/$E$23 -> 0.20576585 | F113: 4.2 | G113: 1.367713
C114: 60x40x2 | D114: 4.92 | E114: =D114/$E$23 -> 0.22698833 | F114: 2.93 | G114: 1.2479675
C115: 60x40x2.5 | D115: 5.87 | E115: =D115/$E$23 -> 0.27081738 | F115: 3.6 | G115: 1.253833
... C133: 80x60x5 | D133: 21.9 | E133: =D133/$E$23 -> 1.0103749 | F133: 9.7 | G133: 1.1780822
C135: Round tube (Øxt)
C136: 48.3x2 | D136: 3.23 | E136: =D136/$E$23 -> 0.14901876 | F136: 2.28 | G136: 1
C137: 48.3x2.5 | D137: 3.92 | E137: =D137/$E$23 -> 0.18085249 | F137: 2.82 | G137: 1
C138: 48.3x3 | D138: 4.55 | E138: =D138/$E$23 -> 0.20991807 | F138: 3.35 | G138: 1
C139: 48.3x3.2 | D139: 4.8 | E139: =D139/$E$23 -> 0.22145203 | F139: 3.56 | G139: 1
C140: 48.3x3.6 | D140: 5.26 | E140: =D140/$E$23 -> 0.24267452 | F140: 3.97 | G140: 1
C141: 48.3x4 | D141: 5.7 | E141: =D141/$E$23 -> 0.26297429 | F141: 4.37 | G141: 1
C142: 48.3x5 | D142: 6.69 | E142: =D142/$E$23 -> 0.30864877 | F142: 5.34 | G142: 1
C143: 60.3x2 | D143: 5.17 | E143: =D143/$E$23 -> 0.23852229 | F143: 2.88 | G143: 1
C144: 60.3x2.5 | D144: 6.3 | E144: =D144/$E$23 -> 0.29065579 | F144: 3.56 | G144: 1
C145: 60.3x3 | D145: 7.37 | E145: =D145/$E$23 -> 0.34002114 | F145: 4.24 | G145: 1
C146: 60.3x3.2 | D146: 7.78 | E146: =D146/$E$23 -> 0.35893684 | F146: 4.51 | G146: 1
C147: 60.3x3.6 | D147: 8.58 | E147: =D147/$E$23 -> 0.39584551 | F147: 5.03 | G147: 1
... C173: 101.6x6.3 | D173: 42.3 | E173: =D173/$E$23 -> 1.951546 | F173: 14.8 | G173: 1
C176: Source: http://www.roymech.co.uk

Sheet A-frame
B2: TONGUE STRENGTH, A-FRAME | D2: Input your data in yellow boxes, read result(s) in blue box(es)
K3: Calculation data
K4: Trailer use/type | L4: Mf factor | M4: MfD factor
C5: User Inputs | K5: Off-road | L5: 0.5 | M5: 1
C6: Trailer use/type | D6: Off-road | K6: Braked road | L6: 0.36 | M6: 0.8
K7: Unbraked road | L7: 0.24 | M7: 1
C8: Trailer loaded weight, kg | D8: 750
K9: Steel | L9: yield | M9: min ulimate
C10: Tongue length, L, mm | D10: 900 | K10: Mild steel | L10: 235 | M10: 360
K11: Higher strength | L11: 275 | M11: 430
C12: Tongue eccentricity, e, mm | D12: 50 | K12: User defined | L12: =D15*1 -> #VALUE! | M12: =D16*1 -> #VALUE!
C14: Steel type | D14: Mild steel | K14: Fabrication | L14: yield factor | M14: ult factor
C15: Yield stress, N/mm2 | D15: =IF($D$14=$K$12,"","* not required *") -> * not required * | K15: Welded | L15: 0.65 | M15: 0.45
C16: Ultimate stress, N/mm2 | D16: =IF($D$14=$K$12,"","* not required *") -> * not required * | K16: Non-welded | L16: 0.8 | M16: 0.6
C18: Tongue fabrication method | D18: Welded
K20: Calculations
K21: Horizontal tongue force, kN | O21: =9.81*32000*D8/(32000+D8)/1000 -> 7.1890076
C22: Results | K22: Eccentricity/length ratio | O22: =D12/D10 -> 0.055555556
C23: Minimum section modulus, each side, Z, cm3 | E23: =O29/O34/2 -> 10.837561 | K23: Length factor | O23: =IF(D10>2500,MAX(0.6,(1.25-0.0001*D10)),1) -> 1
K24: Mf factor | O24: =VLOOKUP(D6,Use,2,FALSE) -> 0.5
C25: Now look in table below for section with suitable Z value - % req'd above 100% | K25: MfD factor | O25: =VLOOKUP(D6,Use,3,FALSE) -> 1
C26: Bigger dimensions (width, depth) are better for weight and stiffness than thicker steel | K26: Vertical bending moment, Nm | O26: =O24*D8*9.81*O23*D10/1000 -> 3310.875
K27: Braking bending moment, Nm | O27: =IF(O22>0.15,O25*O21*D12,0) -> 0
K28: Combined bending moment, Nm | O28: =IF(O22>0.15,0.75*(O26+O27),0) -> 0
K29: Design bending moment, Nm | O29: =MAX(O26:O28) -> 3310.875
C30: Section Properties | D30: Z, cm3 | E30: % of req'd | F30: weight, kg/m | K30: Permissible stress factor to yield, - | O30: =VLOOKUP(D18,Fabrication,2,FALSE) -> 0.65
K31: Permissible stress factor to ultimate, - | O31: =VLOOKUP(D18,Fabrication,3,FALSE) -> 0.45
C32: Equal Angle | K32: Yield stress, N/mm2 | O32: =VLOOKUP(D14,Steel,2,FALSE) -> 235
C33: 40x40x3 | D33: 1.18 | E33: =D33/$E$23 -> 0.10888058 | F33: 1.84 | K33: Ultimate stress, N/mm2 | O33: =VLOOKUP(D14,Steel,3,FALSE) -> 360
C34: 40x40x4 | D34: 1.55 | E34: =D34/$E$23 -> 0.1430211 | F34: 2.42 | K34: Permissible stress, N/mm2 | O34: =MIN(O30*O32,O31*O33) -> 152.75
C35: 40x40x5 | D35: 1.91 | E35: =D35/$E$23 -> 0.17623891 | F35: 2.97
C36: 40x40x6 | D36: 2.26 | E36: =D36/$E$23 -> 0.208534 | F36: 3.52
C37: 45x45x3 | D37: 1.49 | E37: =D37/$E$23 -> 0.1374848 | F37: 2.09
C38: 45x45x4 | D38: 1.97 | E38: =D38/$E$23 -> 0.18177521 | F38: 2.74
C39: 45x45x4.5 | D39: 2.2 | E39: =D39/$E$23 -> 0.2029977 | F39: 3.06
C40: 45x45x5 | D40: 2.43 | E40: =D40/$E$23 -> 0.22422018 | F40: 3.38
C41: 45x45x6 | D41: 2.88 | E41: =D41/$E$23 -> 0.26574244 | F41: 4
C42: 50x50x3 | D42: 1.86 | E42: =D42/$E$23 -> 0.17162533 | F42: 2.33
C43: 50x50x4 | D43: 2.46 | E43: =D43/$E$23 -> 0.22698833 | F43: 3.06
C44: 50x50x5 | D44: 3.05 | E44: =D44/$E$23 -> 0.28142863 | F44: 3.77
C45: 50x50x6 | D45: 3.61 | E45: =D45/$E$23 -> 0.33310077 | F45: 4.47
C46: 50x50x8 | D46: 4.68 | E46: =D46/$E$23 -> 0.43183146 | F46: 5.82
... C70: 100x100x15 | D70: 35.6 | E70: =D70/$E$23 -> 3.2848718 | F70: 21.9
C72: Unequal Angle (biggest dimension vertical)
C73: 60x30x5 | D73: 4.04 | E73: =D73/$E$23 -> 0.37277759 | F73: 3.37
C74: 60x40x5 | D74: 4.25 | E74: =D74/$E$23 -> 0.39215464 | F74: 3.76
C75: 60x40x6 | D75: 5.03 | E75: =D75/$E$23 -> 0.46412655 | F75: 4.46
C76: 65x50x5 | D76: 5.14 | E76: =D76/$E$23 -> 0.47427644 | F76: 4.35
C77: 70x50x6 | D77: 7.01 | E77: =D77/$E$23 -> 0.64682448 | F77: 5.41
C78: 75x50x6 | D78: 8.01 | E78: =D78/$E$23 -> 0.73909616 | F78: 5.65
C79: 75x50x8 | D79: 10.4 | E79: =D79/$E$23 -> 0.95962548 | F79: 7.39
C80: 80x40x6 | D80: 8.73 | E80: =D80/$E$23 -> 0.80553177 | F80: 5.41
C81: 80x40x8 | D81: 11.4 | E81: =D81/$E$23 -> 1.0518972 | F81: 7.07
C82: 80x60x7 | D82: 10.7 | E82: =D82/$E$23 -> 0.98730698 | F82: 7.36
C83: 100x50x6 | D83: 13.8 | E83: =D83/$E$23 -> 1.2733492 | F83: 6.84
C84: 100x50x8 | D84: 18.2 | E84: =D84/$E$23 -> 1.6793446 | F84: 8.97
... C90: 100x75x12 | D90: 28 | E90: =D90/$E$23 -> 2.5836071 | F90: 15.4
C92: Square Tube
C93: 30x30x2 | D93: 1.81 | E93: =D93/$E$23 -> 0.16701174 | F93: 1.68
C94: 30x30x2.5 | D94: 2.1 | E94: =D94/$E$23 -> 0.19377053 | F94: 2.03
C95: 30x30x3 | D95: 2.34 | E95: =D95/$E$23 -> 0.21591573 | F95: 2.36
C96: 40x40x2 | D96: 3.47 | E96: =D96/$E$23 -> 0.32018273 | F96: 2.31
C97: 40x40x2.5 | D97: 4.11 | E97: =D97/$E$23 -> 0.37923661 | F97: 2.82
C98: 40x40x3 | D98: 4.66 | E98: =D98/$E$23 -> 0.42998603 | F98: 3.3
C99: 40x40x4 | D99: 5.54 | E99: =D99/$E$23 -> 0.51118511 | F99: 4.2
C100: 50x50x2 | D100: 5.66 | E100: =D100/$E$23 -> 0.52225771 | F100: 2.93
C101: 50x50x2.5 | D101: 6.78 | E101: =D101/$E$23 -> 0.62560199 | F101: 3.6
C102: 50x50x3 | D102: 7.79 | E102: =D102/$E$23 -> 0.71879639 | F102: 4.25
C103: 50x50x4 | D103: 9.49 | E103: =D103/$E$23 -> 0.87565825 | F103: 5.45
C104: 50x50x5 | D104: 10.8 | E104: =D104/$E$23 -> 0.99653415 | F104: 6.56
... C125: 80x80x8 | D125: 42.1 | E125: =D125/$E$23 -> 3.8846377 | F125: 16.4
C127: Rectangular tube (biggest dimension vertical)
C128: 40x20x2 | D128: 2.02 | E128: =D128/$E$23 -> 0.18638879 | F128: 1.68
C129: 40x20x2.5 | D129: 2.35 | E129: =D129/$E$23 -> 0.21683845 | F129: 2.03
C130: 40x20x3 | D130: 2.6 | E130: =D130/$E$23 -> 0.23990637 | F130: 2.36
C131: 50x25x2 | D131: 3.35 | E131: =D131/$E$23 -> 0.30911013 | F131: 2.15
C132: 50x25x2.5 | D132: 3.95 | E132: =D132/$E$23 -> 0.36447314 | F132: 2.62
C133: 50x25x3 | D133: 4.47 | E133: =D133/$E$23 -> 0.41245441 | F133: 3.07
C134: 50x30x2 | D134: 3.81 | E134: =D134/$E$23 -> 0.3515551 | F134: 2.31
C135: 50x30x2.5 | D135: 4.52 | E135: =D135/$E$23 -> 0.417068 | F135: 2.82
C136: 50x30x3 | D136: 5.13 | E136: =D136/$E$23 -> 0.47335372 | F136: 3.3
C137: 50x30x4 | D137: 6.1 | E137: =D137/$E$23 -> 0.56285725 | F137: 4.2
C138: 60x40x2 | D138: 6.14 | E138: =D138/$E$23 -> 0.56654812 | F138: 2.93
C139: 60x40x2.5 | D139: 7.36 | E139: =D139/$E$23 -> 0.67911957 | F139: 3.6
... C157: 80x60x5 | D157: 25.8 | E157: =D157/$E$23 -> 2.3806094 | F157: 9.7
C159: Rectangular tube (biggest dimension horizontal)
C160: 40x20x2 | D160: 1.34 | E160: =D160/$E$23 -> 0.12364405 | F160: 1.68
C161: 40x20x2.5 | D161: 1.54 | E161: =D161/$E$23 -> 0.14209839 | F161: 2.03
C162: 40x20x3 | D162: 1.68 | E162: =D162/$E$23 -> 0.15501642 | F162: 2.36
C163: 50x25x2 | D163: 2.25 | E163: =D163/$E$23 -> 0.20761128 | F163: 2.15
C164: 50x25x2.5 | D164: 2.62 | E164: =D164/$E$23 -> 0.2417518 | F164: 2.62
C165: 50x25x3 | D165: 2.93 | E165: =D165/$E$23 -> 0.27035602 | F165: 3.07
C166: 50x30x2 | D166: 2.86 | E166: =D166/$E$23 -> 0.26389701 | F166: 2.31
C167: 50x30x2.5 | D167: 3.37 | E167: =D167/$E$23 -> 0.31095556 | F167: 2.82
C168: 50x30x3 | D168: 3.8 | E168: =D168/$E$23 -> 0.35063239 | F168: 3.3
C169: 50x30x4 | D169: 4.46 | E169: =D169/$E$23 -> 0.41153169 | F169: 4.2
C170: 60x40x2 | D170: 4.92 | E170: =D170/$E$23 -> 0.45397667 | F170: 2.93
C171: 60x40x2.5 | D171: 5.87 | E171: =D171/$E$23 -> 0.54163476 | F171: 3.6
... C189: 80x60x5 | D189: 21.9 | E189: =D189/$E$23 -> 2.0207498 | F189: 9.7
C191: Round tube (Øxt)
...

Sheet Composite
B2: TONGUE STRENGTH, COMPOSITE TONGUE | D2: Input your data in yellow boxes, read result(s) in blue/green/pink box(es)
K3: Calculation data
K4: Trailer use/type | L4: Mf factor | M4: MfD factor
C5: User Inputs | K5: Off-road | L5: 0.5 | M5: 1
C6: Trailer use/type | D6: Off-road | K6: Braked road | L6: 0.36 | M6: 0.8
K7: Unbraked road | L7: 0.24 | M7: 1
C8: Trailer loaded weight, kg | D8: 750
K9: Steel | L9: yield | M9: min ulimate
C10: Single tongue length, L1, mm | D10: 800 | K10: Mild steel | L10: 235 | M10: 360
C11: Overall tongue length, L2, mm | D11: 1200 | K11: Higher strength | L11: 275 | M11: 430
K12: User defined | L12: =D16*1 -> #VALUE! | M12: =D17*1 -> #VALUE!
C13: Tongue eccentricity, e, mm | D13: 50
K14: Fabrication | L14: yield factor | M14: ult factor
C15: Steel type | D15: Mild steel | K15: Welded | L15: 0.65 | M15: 0.45
C16: Yield stress, N/mm2 | D16: =IF($D$15=$K$12,"","* not required *") -> * not required * | K16: Non-welded | L16: 0.8 | M16: 0.6
C17: Ultimate stress, N/mm2 | D17: =IF($D$15=$K$12,"","* not required *") -> * not required *
C19: Tongue fabrication method | D19: Welded
K20: Calculations | O20: Single | P20: Overall
K21: Horizontal tongue force, kN | O21: =9.81*32000*D8/(32000+D8)/1000 -> 7.1890076
K22: Eccentricity/length ratio | O22: =D13/D11 -> 0.041666667
C23: Results | K23: Length factor | O23: =IF(D10>2500,MAX(0.6,(1.25-0.0001*D10)),1) -> 1 | P23: =IF(D11>2500,MAX(0.6,(1.25-0.0001*D11)),1) -> 1
C24: Minimum section modulus, single tongue only, Zmin1, cm3 | F24: =O29/O34 -> 19.266776 | G24: Zmin1 | K24: Mf factor | O24: =VLOOKUP(D6,Use,2,FALSE) -> 0.5
C25: Minimum section modulus, complete tongue, Zmin2, cm3 | F25: =P29/O34 -> 28.900164 | K25: MfD factor | O25: =VLOOKUP(D6,Use,3,FALSE) -> 1
C26: Minimum section modulus, each diagonal brace only, Zmin3, cm3 | F26: =(F25-F24)/2 -> 4.8166939 | G26: Zmin3 | K26: Vertical bending moment, Nm | O26: =O24*D8*9.81*O23*D10/1000 -> 2943 | P26: =O24*D8*9.81*P23*D11/1000 -> 4414.5
C27: note: Zmin3 = 0.5 * (Zmin2 - Zmin1) | K27: Braking bending moment, Nm | O27: =IF(O22>0.15,O25*O21*D13,0) -> 0 | P27: =IF(O22>0.15,O25*O21*D13,0) -> 0
C28: Now look in table below for sections with suitable Z values - % req'd above 100% | K28: Combined bending moment, Nm | O28: =IF(O22>0.15,0.75*(O26+O27),0) -> 0 | P28: =IF(O22>0.15,0.75*(P26+P27),0) -> 0
C29: Bigger dimensions (width, depth) are better for weight and stiffness than thicker steel | K29: Design bending moment, Nm | O29: =MAX(O26:O28) -> 2943 | P29: =MAX(P26:P28) -> 4414.5
K30: Permissible stress factor to yield, - | O30: =VLOOKUP(D19,Fabrication,2,FALSE) -> 0.65
C31: If you choose a single tongue section that is much stronger than the minimum, you can | K31: Permissible stress factor to ultimate, - | O31: =VLOOKUP(D19,Fabrication,3,FALSE) -> 0.45
C32: calculate the reduced strength required for the diagonal braces here: | K32: Yield stress, N/mm2 | O32: =VLOOKUP(D15,Steel,2,FALSE) -> 235
C33: Actual section modulus, single tongue chosen from table below, cm3 | G33: Chosen Z | K33: Ultimate stress, N/mm2 | O33: =VLOOKUP(D15,Steel,3,FALSE) -> 360
C34: Reduced min section modulus, each diagonal brace only, Zmin4, cm3 | F34: =IF(F33<F25,IF(F33<F24, "n/a",(F25-F33)/2),"not required") -> n/a | G34: Zmin4 | K34: Permissible stress, N/mm2 | O34: =MIN(O30*O32,O31*O33) -> 152.75
G37: Zmin3 | I37: Zmin4
C38: Section Properties | D38: Z, cm3 | E38: % of req'd | F38: weight, kg/m | G38: % of req'd | I38: % of req'd
G39: Diag brace | I39: reduced brace
C40: Equal Angle
C41: 40x40x3 | D41: 1.18 | E41: =D41/$F$24 -> 0.061245328 | F41: 1.84 | G41: =D41/$F$26 -> 0.24498131 | I41: =IF($F$33<>"",D41/$F$34,"-") -> -
C42: 40x40x4 | D42: 1.55 | E42: =D42/$F$24 -> 0.080449371 | F42: 2.42 | G42: =D42/$F$26 -> 0.32179749 | I42: =IF($F$33<>"",D42/$F$34,"-") -> -
C43: 40x40x5 | D43: 1.91 | E43: =D43/$F$24 -> 0.099134387 | F43: 2.97 | G43: =D43/$F$26 -> 0.39653755 | I43: =IF($F$33<>"",D43/$F$34,"-") -> -
C44: 40x40x6 | D44: 2.26 | E44: =D44/$F$24 -> 0.11730037 | F44: 3.52 | G44: =D44/$F$26 -> 0.4692015 | I44: =IF($F$33<>"",D44/$F$34,"-") -> -
C45: 45x45x3 | D45: 1.49 | E45: =D45/$F$24 -> 0.077335202 | F45: 2.09 | G45: =D45/$F$26 -> 0.30934081 | I45: =IF($F$33<>"",D45/$F$34,"-") -> -
C46: 45x45x4 | D46: 1.97 | E46: =D46/$F$24 -> 0.10224856 | F46: 2.74 | G46: =D46/$F$26 -> 0.40899422 | I46: =IF($F$33<>"",D46/$F$34,"-") -> -
C47: 45x45x4.5 | D47: 2.2 | E47: =D47/$F$24 -> 0.1141862 | F47: 3.06 | G47: =D47/$F$26 -> 0.45674482 | I47: =IF($F$33<>"",D47/$F$34,"-") -> -
C48: 45x45x5 | D48: 2.43 | E48: =D48/$F$24 -> 0.12612385 | F48: 3.38 | G48: =D48/$F$26 -> 0.50449541 | I48: =IF($F$33<>"",D48/$F$34,"-") -> -
C49: 45x45x6 | D49: 2.88 | E49: =D49/$F$24 -> 0.14948012 | F49: 4 | G49: =D49/$F$26 -> 0.59792049 | I49: =IF($F$33<>"",D49/$F$34,"-") -> -
C50: 50x50x3 | D50: 1.86 | E50: =D50/$F$24 -> 0.096539246 | F50: 2.33 | G50: =D50/$F$26 -> 0.38615698 | I50: =IF($F$33<>"",D50/$F$34,"-") -> -
C51: 50x50x4 | D51: 2.46 | E51: =D51/$F$24 -> 0.12768094 | F51: 3.06 | G51: =D51/$F$26 -> 0.51072375 | I51: =IF($F$33<>"",D51/$F$34,"-") -> -
C52: 50x50x5 | D52: 3.05 | E52: =D52/$F$24 -> 0.1583036 | F52: 3.77 | G52: =D52/$F$26 -> 0.63321441 | I52: =IF($F$33<>"",D52/$F$34,"-") -> -
... C78: 100x100x15 | D78: 35.6 | E78: =D78/$F$24 -> 1.8477404 | F78: 21.9 | G78: =D78/$F$26 -> 7.3909616 | I78: =IF($F$33<>"",D78/$F$34,"-") -> -
C80: Unequal Angle (biggest dimension vertical)
C81: 60x30x5 | D81: 4.04 | E81: =D81/$F$24 -> 0.20968739 | F81: 3.37 | G81: =D81/$F$26 -> 0.83874958 | I81: =IF($F$33<>"",D81/$F$34,"-") -> -
C82: 60x40x5 | D82: 4.25 | E82: =D82/$F$24 -> 0.22058699 | F82: 3.76 | G82: =D82/$F$26 -> 0.88234794 | I82: =IF($F$33<>"",D82/$F$34,"-") -> -
C83: 60x40x6 | D83: 5.03 | E83: =D83/$F$24 -> 0.26107119 | F83: 4.46 | G83: =D83/$F$26 -> 1.0442847 | I83: =IF($F$33<>"",D83/$F$34,"-") -> -
C84: 65x50x5 | D84: 5.14 | E84: =D84/$F$24 -> 0.2667805 | F84: 4.35 | G84: =D84/$F$26 -> 1.067122 | I84: =IF($F$33<>"",D84/$F$34,"-") -> -
C85: 70x50x6 | D85: 7.01 | E85: =D85/$F$24 -> 0.36383877 | F85: 5.41 | G85: =D85/$F$26 -> 1.4553551 | I85: =IF($F$33<>"",D85/$F$34,"-") -> -
C86: 75x50x6 | D86: 8.01 | E86: =D86/$F$24 -> 0.41574159 | F86: 5.65 | G86: =D86/$F$26 -> 1.6629664 | I86: =IF($F$33<>"",D86/$F$34,"-") -> -
C87: 75x50x8 | D87: 10.4 | E87: =D87/$F$24 -> 0.53978933 | F87: 7.39 | G87: =D87/$F$26 -> 2.1591573 | I87: =IF($F$33<>"",D87/$F$34,"-") -> -
C88: 80x40x6 | D88: 8.73 | E88: =D88/$F$24 -> 0.45311162 | F88: 5.41 | G88: =D88/$F$26 -> 1.8124465 | I88: =IF($F$33<>"",D88/$F$34,"-") -> -
C89: 80x40x8 | D89: 11.4 | E89: =D89/$F$24 -> 0.59169215 | F89: 7.07 | G89: =D89/$F$26 -> 2.3667686 | I89: =IF($F$33<>"",D89/$F$34,"-") -> -
C90: 80x60x7 | D90: 10.7 | E90: =D90/$F$24 -> 0.55536018 | F90: 7.36 | G90: =D90/$F$26 -> 2.2214407 | I90: =IF($F$33<>"",D90/$F$34,"-") -> -
C91: 100x50x6 | D91: 13.8 | E91: =D91/$F$24 -> 0.71625892 | F91: 6.84 | G91: =D91/$F$26 -> 2.8650357 | I91: =IF($F$33<>"",D91/$F$34,"-") -> -
C92: 100x50x8 | D92: 18.2 | E92: =D92/$F$24 -> 0.94463133 | F92: 8.97 | G92: =D92/$F$26 -> 3.7785253 | I92: =IF($F$33<>"",D92/$F$34,"-") -> -
... C98: 100x75x12 | D98: 28 | E98: =D98/$F$24 -> 1.453279 | F98: 15.4 | G98: =D98/$F$26 -> 5.8131159 | I98: =IF($F$33<>"",D98/$F$34,"-") -> -
C100: Square Tube
C101: 30x30x2 | D101: 1.81 | E101: =D101/$F$24 -> 0.093944105 | F101: 1.68 | G101: =D101/$F$26 -> 0.37577642 | I101: =IF($F$33<>"",D101/$F$34,"-") -> -
C102: 30x30x2.5 | D102: 2.1 | E102: =D102/$F$24 -> 0.10899592 | F102: 2.03 | G102: =D102/$F$26 -> 0.43598369 | I102: =IF($F$33<>"",D102/$F$34,"-") -> -
C103: 30x30x3 | D103: 2.34 | E103: =D103/$F$24 -> 0.1214526 | F103: 2.36 | G103: =D103/$F$26 -> 0.4858104 | I103: =IF($F$33<>"",D103/$F$34,"-") -> -
C104: 40x40x2 | D104: 3.47 | E104: =D104/$F$24 -> 0.18010279 | F104: 2.31 | G104: =D104/$F$26 -> 0.72041115 | I104: =IF($F$33<>"",D104/$F$34,"-") -> -
C105: 40x40x2.5 | D105: 4.11 | E105: =D105/$F$24 -> 0.21332059 | F105: 2.82 | G105: =D105/$F$26 -> 0.85328236 | I105: =IF($F$33<>"",D105/$F$34,"-") -> -
C106: 40x40x3 | D106: 4.66 | E106: =D106/$F$24 -> 0.24186714 | F106: 3.3 | G106: =D106/$F$26 -> 0.96746857 | I106: =IF($F$33<>"",D106/$F$34,"-") -> -
C107: 40x40x4 | D107: 5.54 | E107: =D107/$F$24 -> 0.28754162 | F107: 4.2 | G107: =D107/$F$26 -> 1.1501665 | I107: =IF($F$33<>"",D107/$F$34,"-") -> -
C108: 50x50x2 | D108: 5.66 | E108: =D108/$F$24 -> 0.29376996 | F108: 2.93 | G108: =D108/$F$26 -> 1.1750799 | I108: =IF($F$33<>"",D108/$F$34,"-") -> -
C109: 50x50x2.5 | D109: 6.78 | E109: =D109/$F$24 -> 0.35190112 | F109: 3.6 | G109: =D109/$F$26 -> 1.4076045 | I109: =IF($F$33<>"",D109/$F$34,"-") -> -
C110: 50x50x3 | D110: 7.79 | E110: =D110/$F$24 -> 0.40432297 | F110: 4.25 | G110: =D110/$F$26 -> 1.6172919 | I110: =IF($F$33<>"",D110/$F$34,"-") -> -
C111: 50x50x4 | D111: 9.49 | E111: =D111/$F$24 -> 0.49255776 | F111: 5.45 | G111: =D111/$F$26 -> 1.9702311 | I111: =IF($F$33<>"",D111/$F$34,"-") -> -
C112: 50x50x5 | D112: 10.8 | E112: =D112/$F$24 -> 0.56055046 | F112: 6.56 | G112: =D112/$F$26 -> 2.2422018 | I112: =IF($F$33<>"",D112/$F$34,"-") -> -
... C133: 80x80x8 | D133: 42.1 | E133: =D133/$F$24 -> 2.1851087 | F133: 16.4 | G133: =D133/$F$26 -> 8.7404349 | I133: =IF($F$33<>"",D133/$F$34,"-") -> -
C135: Rectangular tube (biggest dimension vertical)
C136: 40x20x2 | D136: 2.02 | E136: =D136/$F$24 -> 0.1048437 | F136: 1.68 | G136: =D136/$F$26 -> 0.41937479 | I136: =IF($F$33<>"",D136/$F$34,"-") -> -
C137: 40x20x2.5 | D137: 2.35 | E137: =D137/$F$24 -> 0.12197163 | F137: 2.03 | G137: =D137/$F$26 -> 0.48788651 | I137: =IF($F$33<>"",D137/$F$34,"-") -> -
C138: 40x20x3 | D138: 2.6 | E138: =D138/$F$24 -> 0.13494733 | F138: 2.36 | G138: =D138/$F$26 -> 0.53978933 | I138: =IF($F$33<>"",D138/$F$34,"-") -> -
C139: 50x25x2 | D139: 3.35 | E139: =D139/$F$24 -> 0.17387445 | F139: 2.15 | G139: =D139/$F$26 -> 0.69549779 | I139: =IF($F$33<>"",D139/$F$34,"-") -> -
C140: 50x25x2.5 | D140: 3.95 | E140: =D140/$F$24 -> 0.20501614 | F140: 2.62 | G140: =D140/$F$26 -> 0.82006456 | I140: =IF($F$33<>"",D140/$F$34,"-") -> -
C141: 50x25x3 | D141: 4.47 | E141: =D141/$F$24 -> 0.23200561 | F141: 3.07 | G141: =D141/$F$26 -> 0.92802243 | I141: =IF($F$33<>"",D141/$F$34,"-") -> -
C142: 50x30x2 | D142: 3.81 | E142: =D142/$F$24 -> 0.19774975 | F142: 2.31 | G142: =D142/$F$26 -> 0.79099898 | I142: =IF($F$33<>"",D142/$F$34,"-") -> -
C143: 50x30x2.5 | D143: 4.52 | E143: =D143/$F$24 -> 0.23460075 | F143: 2.82 | G143: =D143/$F$26 -> 0.93840299 | I143: =IF($F$33<>"",D143/$F$34,"-") -> -
C144: 50x30x3 | D144: 5.13 | E144: =D144/$F$24 -> 0.26626147 | F144: 3.3 | G144: =D144/$F$26 -> 1.0650459 | I144: =IF($F$33<>"",D144/$F$34,"-") -> -
C145: 50x30x4 | D145: 6.1 | E145: =D145/$F$24 -> 0.3166072 | F145: 4.2 | G145: =D145/$F$26 -> 1.2664288 | I145: =IF($F$33<>"",D145/$F$34,"-") -> -
C146: 60x40x2 | D146: 6.14 | E146: =D146/$F$24 -> 0.31868332 | F146: 2.93 | G146: =D146/$F$26 -> 1.2747333 | I146: =IF($F$33<>"",D146/$F$34,"-") -> -
C147: 60x40x2.5 | D147: 7.36 | E147: =D147/$F$24 -> 0.38200476 | F147: 3.6 | G147: =D147/$F$26 -> 1.528019 | I147: =IF($F$33<>"",D147/$F$34,"-") -> -
... C165: 80x60x5 | D165: 25.8 | E165: =D165/$F$24 -> 1.3390928 | F165: 9.7 | G165: =D165/$F$26 -> 5.356371 | I165: =IF($F$33<>"",D165/$F$34,"-") -> -
C167: Rectangular tube (biggest dimension horizontal)
C168: 40x20x2 | D168: 1.34 | E168: =D168/$F$24 -> 0.069549779 | F168: 1.68 | G168: =D168/$F$26 -> 0.27819912 | I168: =IF($F$33<>"",D168/$F$34,"-") -> -
C169: 40x20x2.5 | D169: 1.54 | E169: =D169/$F$24 -> 0.079930343 | F169: 2.03 | G169: =D169/$F$26 -> 0.31972137 | I169: =IF($F$33<>"",D169/$F$34,"-") -> -
C170: 40x20x3 | D170: 1.68 | E170: =D170/$F$24 -> 0.087196738 | F170: 2.36 | G170: =D170/$F$26 -> 0.34878695 | I170: =IF($F$33<>"",D170/$F$34,"-") -> -
C171: 50x25x2 | D171: 2.25 | E171: =D171/$F$24 -> 0.11678135 | F171: 2.15 | G171: =D171/$F$26 -> 0.46712538 | I171: =IF($F$33<>"",D171/$F$34,"-") -> -
C172: 50x25x2.5 | D172: 2.62 | E172: =D172/$F$24 -> 0.13598539 | F172: 2.62 | G172: =D172/$F$26 -> 0.54394156 | I172: =IF($F$33<>"",D172/$F$34,"-") -> -
C173: 50x25x3 | D173: 2.93 | E173: =D173/$F$24 -> 0.15207526 | F173: 3.07 | G173: =D173/$F$26 -> 0.60830105 | I173: =IF($F$33<>"",D173/$F$34,"-") -> -
C174: 50x30x2 | D174: 2.86 | E174: =D174/$F$24 -> 0.14844207 | F174: 2.31 | G174: =D174/$F$26 -> 0.59376826 | I174: =IF($F$33<>"",D174/$F$34,"-") -> -
C175: 50x30x2.5 | D175: 3.37 | E175: =D175/$F$24 -> 0.1749125 | F175: 2.82 | G175: =D175/$F$26 -> 0.69965002 | I175: =IF($F$33<>"",D175/$F$34,"-") -> -
...
